BEGIN:VCALENDAR
PRODID:-//hacksw/handcal//NONSGML v1.0//EN
VERSION:2.0
METHOD:PUBLISH
BEGIN:VEVENT
DTSTART:20241002T153000Z
DTEND:20241002T170000Z
LOCATION:Isles Yacht Club, 1780 W. Marion Ave, Punta Gorda, FL 
UID:2567920241002T153000ZOctober Luncheon - Business Valuations Update with Atticus Frank
DTSTAMP:20260420T082422Z
DESCRIPTION:\nAtticus is a Regional Director of the HBK’s Florida Valuation Group, which includes offices in Fort Myers, Naples, Sarasota, Stuart, and Boca Raton.\n \n \n \nAtticus’s valuation focus includes gift and estate tax, transaction advisory, and dispute and litigation support. Atticus has provided valuation services for internal and succession planning; gift and estate tax planning and compliance; buy/sell agreements; mergers and acquisitions; litigation support; and financial reporting purposes.\n \n \n \nPrior to joining HBK, Atticus was a Vice President at Mercer Capital Management, Inc. where he was involved in hundreds of valuation engagements. Atticus also spent time at D-R Media and Investments, a media business based in Venice Florida where he led a division of the company and served as CFO.\n \n \n \nAtticus is a member of the Venice Area and Southwest Florida Estate Planning Councils, the CFA Society of Tampa Bay, the Venice and Sarasota Chambers of Commerce, ACG Tampa Bay, and the FICPA.\n \n \n \nAtticus serves on the State College of Florida Foundation Board of Directors, on the Charlotte Community Foundation’s Finance and Audit Committee, and on the FICPA’s Valuation, Forensic Accounting, and Litigation Services Committee. He was also appointed to the Sarasota County School Board Financial Advisory Committee.\n \n \n \nAtticus resides in Venice with his wife, three kids, and two dogs.\n
SUMMARY:October Luncheon - Business Valuations Update with Atticus Frank - Charlotte Estate Planning Council 
PRIORITY:3
BEGIN:VALARM
TRIGGER:PT18H
ACTION:DISPLAY
DESCRIPTION:Reminder
END:VALARM
END:VEVENT
END:VCALENDAR