BEGIN:VCALENDAR
PRODID:-//hacksw/handcal//NONSGML v1.0//EN
VERSION:2.0
METHOD:PUBLISH
BEGIN:VEVENT
DTSTART:20230912T153000Z
DTEND:20230912T170000Z
LOCATION:F.M. Don's at 201 W. Marion Ave., Punta Gorda, FL
UID:2443620230912T153000ZSeptember Luncheon - Golden Girls Solutions 
DTSTAMP:20260420T094812Z
DESCRIPTION:\nWe are excited to announce that for our upcoming September luncheon we will be having Elle Richards who is a Care Advisor with the Golden Girls Solutions, which is a company that specializes in senior living care.   Elle will review what you should know when shopping for continuing care and assisted living facilities for clients and family, and be able to answer any questions you have on the subject.    \n\n\n \nHope to see everyone there. \n\n\n \nThe event will be held at F.M Don's in downtown Punta Gorda.  The cost to attend is free, however we will all be ordering off the menue under seperate bills.   \n \nPlease RSVP though so we can make sure to have enough room. \n \nSincerley, \n\n\n \nCEPC Board of Directors. \n\n\n \n  \n\n \n
SUMMARY:September Luncheon - Golden Girls Solutions  - Charlotte Estate Planning Council 
PRIORITY:3
BEGIN:VALARM
TRIGGER:PT18H
ACTION:DISPLAY
DESCRIPTION:Reminder
END:VALARM
END:VEVENT
END:VCALENDAR