BEGIN:VCALENDAR
PRODID:-//hacksw/handcal//NONSGML v1.0//EN
VERSION:2.0
METHOD:PUBLISH
BEGIN:VEVENT
DTSTART:20220712T153000Z
DTEND:20220712T170000Z
LOCATION:Charlotte Yacht Club, 4400 Lister St Port Charlotte, FL 33952
UID:2286320220712T153000ZJuly Luncheon
DTSTAMP:20260422T100235Z
DESCRIPTION:\nWe are excited to announce that for our upcoming July luncheon we will be having Robin Vazquez presenting about guardianships and the alternatives to it. \n \nRobin Vazquez is the owner and founder of Estate and Guardianship Management Services and has been a professional guardian for more than twenty years serving Charlotte, Sarasota, and Lee County. She is a registered professional guardian for the State of Florida Department of Elder Affairs Statewide Public Guardianship Office as well as nationally certified. \n \nBesides serving her community as a professional guardian, she has also served as a board member for the Charlotte Community Foundation and is a Rotarian. \n
SUMMARY:July Luncheon - Charlotte Estate Planning Council 
PRIORITY:3
BEGIN:VALARM
TRIGGER:PT18H
ACTION:DISPLAY
DESCRIPTION:Reminder
END:VALARM
END:VEVENT
END:VCALENDAR