BEGIN:VCALENDAR
PRODID:-//hacksw/handcal//NONSGML v1.0//EN
VERSION:2.0
METHOD:PUBLISH
BEGIN:VEVENT
DTSTART:20181113T163000Z
DTEND:20181113T180000Z
LOCATION:Charlotte Harbor Yacht Club
UID:1565920181113T163000ZNovember Luncheon
DTSTAMP:20260420T100455Z
DESCRIPTION:\nAsset Protection for You and Your Clients.   David Holmes, Esq. with the Farr Law Firm will be our guest speaker. \n \nHis talk is entitled "Integrating Estate and Asset Protection Planning in Florida”\n \nDavid will cover the fundamentals of asset protection in Florida including exemption planning, limited liability entities, and protective trusts, with emphasis on creation of a unified structure that serves estate planning and asset protection objectives.\n \nDavid Holmes is a business lawyer and has practiced law in Charlotte county for 25 years.\n \nHe counsels and advocates for business owners and their businesses across a broad range of matters including initial organization, governing documents, operations and contracting, acquisition, disposition, and finance. David also advises clients on planning and strategy and advocates for them in commercial litigation matters.\n \nIn the area of Asset Protection, he assists clients in identifying assets that are exposed to the risks of litigation and implements protection strategies that are consistent with existing financial and estate plans, including family limited partnerships and asset protection trusts.\n
SUMMARY:November Luncheon - Charlotte Estate Planning Council 
PRIORITY:3
BEGIN:VALARM
TRIGGER:PT18H
ACTION:DISPLAY
DESCRIPTION:Reminder
END:VALARM
END:VEVENT
END:VCALENDAR